BEGIN:VCALENDAR
VERSION:2.0
PRODID:-//Tukios.com/
BEGIN:VEVENT
UID:fc3e25d9-1f5b-4ff7-8372-c87221953bfd@www.ladysfuneralhome.com
DTSTAMP:20260419T125523Z
DTSTART:20260418T180000Z
DTEND:20260418T190000Z
SUMMARY:Funeral Service
DESCRIPTION:
URL:https://www.ladysfuneralhome.com/obituaries/james-hatley
LOCATION:Lady's Funeral Home Chapel 268 N. Cannon Blvd.  Kannapolis NC 
	28083
GEO:35.4969529;-80.6088842
END:VEVENT
END:VCALENDAR