BEGIN:VCALENDAR
VERSION:2.0
PRODID:-//Tukios.com/
BEGIN:VEVENT
UID:c5c33553-b3bb-461b-b3f6-6ab87916a521@www.ladysfuneralhome.com
DTSTAMP:20260424T190042Z
DTSTART:20260426T180000Z
DTEND:20260426T200000Z
SUMMARY:Visitation
DESCRIPTION:
URL:https://www.ladysfuneralhome.com/obituaries/joe-morris
LOCATION:Lady's Funeral Home 268 North Cannon Boulevard  Kannapolis NC 
	28083
GEO:35.4974529;-80.6094453
END:VEVENT
END:VCALENDAR