BEGIN:VCALENDAR
VERSION:2.0
PRODID:-//Tukios.com/
BEGIN:VEVENT
UID:715ed459-c60c-4965-989c-8be10c8df039@www.ladysfuneralhome.com
DTSTAMP:20260423T203656Z
DTSTART:20260502T200000Z
DTEND:20260502T210000Z
SUMMARY:Funeral Service
DESCRIPTION:
URL:https://www.ladysfuneralhome.com/obituaries/lea-ann-buckwell
LOCATION:Faith Evangelical Lutheran Church 205 South Main Street  Faith 
	NC 28041
GEO:35.5835168;-80.4622083
END:VEVENT
END:VCALENDAR