BEGIN:VCALENDAR
VERSION:2.0
PRODID:-//Tukios.com/
BEGIN:VEVENT
UID:89fc2eec-1b4f-4e3e-aa3b-802d17c686c3@www.ladysfuneralhome.com
DTSTAMP:20260423T203737Z
DTSTART:20260502T174500Z
DTEND:20260502T194500Z
SUMMARY:Visitation
DESCRIPTION:
URL:https://www.ladysfuneralhome.com/obituaries/lea-ann-buckwell
LOCATION:Faith Evangelical Lutheran Church 205 South Main Street  Faith 
	NC 28041
GEO:35.5835185;-80.4622322
END:VEVENT
END:VCALENDAR