BEGIN:VCALENDAR
VERSION:2.0
PRODID:-//Tukios.com/
BEGIN:VEVENT
UID:9ec9465f-7699-4793-a698-f80c71a51d42@www.ladysfuneralhome.com
DTSTAMP:20260425T012147Z
DTSTART:20260427T160000Z
DTEND:20260427T170000Z
SUMMARY:Funeral Service
DESCRIPTION:
URL:https://www.ladysfuneralhome.com/obituaries/william-carey-funderburk
LOCATION:Bright Light Baptist Church 960 Old Charlotte Rd SW  Concord NC 
	28027
GEO:35.379822;-80.5995488
END:VEVENT
END:VCALENDAR