BEGIN:VCALENDAR
VERSION:2.0
PRODID:-//Tukios.com/
BEGIN:VEVENT
UID:3dd91a44-fe4e-42f9-8e3d-38048313c3d4@www.ladysfuneralhome.com
DTSTAMP:20260425T012131Z
DTSTART:20260427T150000Z
DTEND:20260427T154500Z
SUMMARY:Visitation
DESCRIPTION:
URL:https://www.ladysfuneralhome.com/obituaries/william-carey-funderburk
LOCATION: 960 Old Charlotte Rd SW  Concord NC 28027
GEO:35.379822;-80.5995488
END:VEVENT
END:VCALENDAR