BEGIN:VCALENDAR
VERSION:2.0
PRODID:-//Tukios.com/
BEGIN:VEVENT
UID:886131b8-69a5-46a0-a442-9821bd286358@www.ladysfuneralhome.com
DTSTAMP:20260422T074234Z
DTSTART:20260423T163000Z
DTEND:20260423T174500Z
SUMMARY:Visitation
DESCRIPTION:
URL:https://www.ladysfuneralhome.com/obituaries/winford-patterson
LOCATION:Pine Ridge Baptist Church 880 Old  Lynn Road  China Grove NC 
	28023
GEO:35.5533628;-80.628227
END:VEVENT
END:VCALENDAR