BEGIN:VCALENDAR
VERSION:2.0
PRODID:-//Tukios.com/
BEGIN:VEVENT
UID:bd20c42d-174a-4dfc-982d-797386e09061@www.ladysfuneralhome.com
DTSTAMP:20260422T073848Z
DTSTART:20260423T180000Z
DTEND:20260423T190000Z
SUMMARY:Funeral Service
DESCRIPTION:
URL:https://www.ladysfuneralhome.com/obituaries/winford-patterson
LOCATION: 880 Old  Lynn Road  China Grove NC 28023
GEO:35.5533628;-80.628227
END:VEVENT
END:VCALENDAR